Workbook

Sheet ▶︎本シートの使い方
A1: 対応順 | B1: 操作するタブ名 | C1: 操作の目的と手順 | D1: 該当画面
A2: 1 | B2: HRMOS求人データ | C2: 【目的】 HRMOS求人に登録されている情報を「Indeed連携項目」に転記するため 【手順】 1.HRMOSの「求人管理」＞絞り込みにて、「一般公開」の求人を絞り込んでください 2.HRMOSの「求人管理」＞「ダウンロード」＞「求人票」＞出力範囲 「現在の検索条件に該当する求人」を選択の上で求人票をダウンロードしてください。 3.ダウンロードしたCSVファイルを、本シート「HRMOS求人データ」に貼り付けてください。
A3: 2 | B3: Indeed連携項目アップロード用 | C3: 【目的】 Indeed連携項目をHRMOS採用にアップロードするため 【手順】 1.入力必須項目（赤いセル）を入力してください。 青いセル：P列・O列がそれぞれ「あり」にした場合に、入力が必須になる項目です。 2.「Indeed連携項目アップロード用」をCSV形式で保存してください。 3.HRMOSの「求人管理」＞「ファイルをアップロード」＞「Indeed連携項目を一括編集」から保存したCSVファイルをアップロードしてください。

Sheet Indeed連携項目アップロード用
A1: 求人ID（編集不可） | B1: 選考ポジション（編集不可） | C1: 雇用形態 | D1: 勤務先企業名 | E1: 勤務地住所 | F1: 企業サイトURL | G1: 求人に関する自由記述 | H1: 職種 | I1: 勤務形態 | J1: 社会保険 | K1: 給与形態 | L1: 給与レンジ下限 | M1: 給与レンジ上限 | N1: 基本給 | O1: 勤務時間 | P1: 固定残業の有無 | Q1: 固定残業時間 | R1: 固定残業代 | S1: 試用期間の有無 | T1: 試用期間の説明 | U1: 試用期間_給与形態 | V1: 試用期間_給与レンジ下限 | W1: 試用期間_給与レンジ上限 | X1: 試用期間_基本給 | Y1: 試用期間_勤務時間 | Z1: 試用期間_固定残業の有無 | AA1: 試用期間_固定残業時間 | AB1: 試用期間_固定残業代 | AC1: 担当者メールアドレス
A2: =IF(HRMOS求人データ!A2="","",HRMOS求人データ!A2) | B2: =IF(HRMOS求人データ!C2="","",HRMOS求人データ!C2) | C2: =IF(HRMOS求人データ!G2="","",HRMOS求人データ!G2) | E2: =IF(HRMOS求人データ!N2="","",HRMOS求人データ!N2) | G2: =IF(HRMOS求人データ!F2="","",HRMOS求人データ!F2) | L2: =IF(HRMOS求人データ!J2="","",HRMOS求人データ!J2) | M2: =IF(HRMOS求人データ!K2="","",HRMOS求人データ!K2) | O2: =IF(HRMOS求人データ!P2="","",HRMOS求人データ!P2)
A3: =IF(HRMOS求人データ!A3="","",HRMOS求人データ!A3) | B3: =IF(HRMOS求人データ!C3="","",HRMOS求人データ!C3) | C3: =IF(HRMOS求人データ!G3="","",HRMOS求人データ!G3) | E3: =IF(HRMOS求人データ!N3="","",HRMOS求人データ!N3) | G3: =IF(HRMOS求人データ!F3="","",HRMOS求人データ!F3) | L3: =IF(HRMOS求人データ!J3="","",HRMOS求人データ!J3) | M3: =IF(HRMOS求人データ!K3="","",HRMOS求人データ!K3) | O3: =IF(HRMOS求人データ!P3="","",HRMOS求人データ!P3)
A4: =IF(HRMOS求人データ!A4="","",HRMOS求人データ!A4) | B4: =IF(HRMOS求人データ!C4="","",HRMOS求人データ!C4) | C4: =IF(HRMOS求人データ!G4="","",HRMOS求人データ!G4) | E4: =IF(HRMOS求人データ!N4="","",HRMOS求人データ!N4) | G4: =IF(HRMOS求人データ!F4="","",HRMOS求人データ!F4) | L4: =IF(HRMOS求人データ!J4="","",HRMOS求人データ!J4) | M4: =IF(HRMOS求人データ!K4="","",HRMOS求人データ!K4) | O4: =IF(HRMOS求人データ!P4="","",HRMOS求人データ!P4)
A5: =IF(HRMOS求人データ!A5="","",HRMOS求人データ!A5) | B5: =IF(HRMOS求人データ!C5="","",HRMOS求人データ!C5) | C5: =IF(HRMOS求人データ!G5="","",HRMOS求人データ!G5) | E5: =IF(HRMOS求人データ!N5="","",HRMOS求人データ!N5) | G5: =IF(HRMOS求人データ!F5="","",HRMOS求人データ!F5) | L5: =IF(HRMOS求人データ!J5="","",HRMOS求人データ!J5) | M5: =IF(HRMOS求人データ!K5="","",HRMOS求人データ!K5) | O5: =IF(HRMOS求人データ!P5="","",HRMOS求人データ!P5)
A6: =IF(HRMOS求人データ!A6="","",HRMOS求人データ!A6) | B6: =IF(HRMOS求人データ!C6="","",HRMOS求人データ!C6) | C6: =IF(HRMOS求人データ!G6="","",HRMOS求人データ!G6) | E6: =IF(HRMOS求人データ!N6="","",HRMOS求人データ!N6) | G6: =IF(HRMOS求人データ!F6="","",HRMOS求人データ!F6) | L6: =IF(HRMOS求人データ!J6="","",HRMOS求人データ!J6) | M6: =IF(HRMOS求人データ!K6="","",HRMOS求人データ!K6) | O6: =IF(HRMOS求人データ!P6="","",HRMOS求人データ!P6)
A7: =IF(HRMOS求人データ!A7="","",HRMOS求人データ!A7) | B7: =IF(HRMOS求人データ!C7="","",HRMOS求人データ!C7) | C7: =IF(HRMOS求人データ!G7="","",HRMOS求人データ!G7) | E7: =IF(HRMOS求人データ!N7="","",HRMOS求人データ!N7) | G7: =IF(HRMOS求人データ!F7="","",HRMOS求人データ!F7) | L7: =IF(HRMOS求人データ!J7="","",HRMOS求人データ!J7) | M7: =IF(HRMOS求人データ!K7="","",HRMOS求人データ!K7) | O7: =IF(HRMOS求人データ!P7="","",HRMOS求人データ!P7)
A8: =IF(HRMOS求人データ!A8="","",HRMOS求人データ!A8) | B8: =IF(HRMOS求人データ!C8="","",HRMOS求人データ!C8) | C8: =IF(HRMOS求人データ!G8="","",HRMOS求人データ!G8) | E8: =IF(HRMOS求人データ!N8="","",HRMOS求人データ!N8) | G8: =IF(HRMOS求人データ!F8="","",HRMOS求人データ!F8) | L8: =IF(HRMOS求人データ!J8="","",HRMOS求人データ!J8) | M8: =IF(HRMOS求人データ!K8="","",HRMOS求人データ!K8) | O8: =IF(HRMOS求人データ!P8="","",HRMOS求人データ!P8)
A9: =IF(HRMOS求人データ!A9="","",HRMOS求人データ!A9) | B9: =IF(HRMOS求人データ!C9="","",HRMOS求人データ!C9) | C9: =IF(HRMOS求人データ!G9="","",HRMOS求人データ!G9) | E9: =IF(HRMOS求人データ!N9="","",HRMOS求人データ!N9) | G9: =IF(HRMOS求人データ!F9="","",HRMOS求人データ!F9) | L9: =IF(HRMOS求人データ!J9="","",HRMOS求人データ!J9) | M9: =IF(HRMOS求人データ!K9="","",HRMOS求人データ!K9) | O9: =IF(HRMOS求人データ!P9="","",HRMOS求人データ!P9)
A10: =IF(HRMOS求人データ!A10="","",HRMOS求人データ!A10) | B10: =IF(HRMOS求人データ!C10="","",HRMOS求人データ!C10) | C10: =IF(HRMOS求人データ!G10="","",HRMOS求人データ!G10) | E10: =IF(HRMOS求人データ!N10="","",HRMOS求人データ!N10) | G10: =IF(HRMOS求人データ!F10="","",HRMOS求人データ!F10) | L10: =IF(HRMOS求人データ!J10="","",HRMOS求人データ!J10) | M10: =IF(HRMOS求人データ!K10="","",HRMOS求人データ!K10) | O10: =IF(HRMOS求人データ!P10="","",HRMOS求人データ!P10)
A11: =IF(HRMOS求人データ!A11="","",HRMOS求人データ!A11) | B11: =IF(HRMOS求人データ!C11="","",HRMOS求人データ!C11) | C11: =IF(HRMOS求人データ!G11="","",HRMOS求人データ!G11) | E11: =IF(HRMOS求人データ!N11="","",HRMOS求人データ!N11) | G11: =IF(HRMOS求人データ!F11="","",HRMOS求人データ!F11) | L11: =IF(HRMOS求人データ!J11="","",HRMOS求人データ!J11) | M11: =IF(HRMOS求人データ!K11="","",HRMOS求人データ!K11) | O11: =IF(HRMOS求人データ!P11="","",HRMOS求人データ!P11)
A12: =IF(HRMOS求人データ!A12="","",HRMOS求人データ!A12) | B12: =IF(HRMOS求人データ!C12="","",HRMOS求人データ!C12) | C12: =IF(HRMOS求人データ!G12="","",HRMOS求人データ!G12) | E12: =IF(HRMOS求人データ!N12="","",HRMOS求人データ!N12) | G12: =IF(HRMOS求人データ!F12="","",HRMOS求人データ!F12) | L12: =IF(HRMOS求人データ!J12="","",HRMOS求人データ!J12) | M12: =IF(HRMOS求人データ!K12="","",HRMOS求人データ!K12) | O12: =IF(HRMOS求人データ!P12="","",HRMOS求人データ!P12)
A13: =IF(HRMOS求人データ!A13="","",HRMOS求人データ!A13) | B13: =IF(HRMOS求人データ!C13="","",HRMOS求人データ!C13) | C13: =IF(HRMOS求人データ!G13="","",HRMOS求人データ!G13) | E13: =IF(HRMOS求人データ!N13="","",HRMOS求人データ!N13) | G13: =IF(HRMOS求人データ!F13="","",HRMOS求人データ!F13) | L13: =IF(HRMOS求人データ!J13="","",HRMOS求人データ!J13) | M13: =IF(HRMOS求人データ!K13="","",HRMOS求人データ!K13) | O13: =IF(HRMOS求人データ!P13="","",HRMOS求人データ!P13)
... A66: =IF(HRMOS求人データ!A66="","",HRMOS求人データ!A66) | B66: =IF(HRMOS求人データ!C66="","",HRMOS求人データ!C66) | C66: =IF(HRMOS求人データ!G66="","",HRMOS求人データ!G66) | E66: =IF(HRMOS求人データ!N66="","",HRMOS求人データ!N66) | G66: =IF(HRMOS求人データ!F66="","",HRMOS求人データ!F66) | L66: =IF(HRMOS求人データ!J66="","",HRMOS求人データ!J66) | M66: =IF(HRMOS求人データ!K66="","",HRMOS求人データ!K66) | O66: =IF(HRMOS求人データ!P66="","",HRMOS求人データ!P66)
A67: =IF(HRMOS求人データ!A67="","",HRMOS求人データ!A67)
A68: =IF(HRMOS求人データ!A68="","",HRMOS求人データ!A68)
A69: =IF(HRMOS求人データ!A69="","",HRMOS求人データ!A69)
A70: =IF(HRMOS求人データ!A70="","",HRMOS求人データ!A70)
A71: =IF(HRMOS求人データ!A71="","",HRMOS求人データ!A71)
A72: =IF(HRMOS求人データ!A72="","",HRMOS求人データ!A72)
A73: =IF(HRMOS求人データ!A73="","",HRMOS求人データ!A73)
A74: =IF(HRMOS求人データ!A74="","",HRMOS求人データ!A74)
A75: =IF(HRMOS求人データ!A75="","",HRMOS求人データ!A75)
A76: =IF(HRMOS求人データ!A76="","",HRMOS求人データ!A76)
A77: =IF(HRMOS求人データ!A77="","",HRMOS求人データ!A77)
A78: =IF(HRMOS求人データ!A78="","",HRMOS求人データ!A78)
... A1000: =IF(HRMOS求人データ!A1000="","",HRMOS求人データ!A1000)

Sheet HRMOS求人データ

Sheet ▶︎編集NG

Sheet 入力規則マスタ
A1: 雇用形態 | B1: 社会保険 | C1: 給与形態 | D1: 職種 | E1: 勤務形態 | F1: 有無
A2: 正社員 | B2: 健康保険あり | C2: 日給 | D2: サプライチェーン・倉庫・物流従事者 | E2: 変形労働時間制 | F2: あり
A3: アルバイト・パート | B3: 厚生年金あり | C3: 時給 | D3: マーケティング・広報・広告・宣伝従事者 | E3: シフト制 | F3: なし
A4: 派遣社員 | B4: 雇用保険あり | C4: 月給 | D4: メディア・クリエイティブ従事者 | E4: 固定時間制
A5: 業務委託 | B5: 労災保険あり | C5: 年俸 | D5: 交通・運輸従事者 | E5: フレックスタイム制度
A6: 契約社員 | B6: 健康保険あり, 厚生年金あり | D6: 保安・警備・安全管理従事者 | E6: 事業場外みなし労働時間制
A7: インターンシップ | B7: 健康保険あり, 雇用保険あり | D7: 医療従事者 | E7: 専門業務型裁量労働制
A8: 新卒 | B8: 健康保険あり, 労災保険あり | D8: 営業・販売従事者 | E8: 企画業務型裁量労働制
A9: ボランティア | B9: 厚生年金あり, 雇用保険あり | D9: 建築・エンジニアリング従事者 | E9: 高度プロフェッショナル制度
B10: 厚生年金あり, 労災保険あり | D10: 建設・土木従事者
B11: 雇用保険あり, 労災保険あり | D11: 情報技術従事者
B12: 健康保険あり, 厚生年金あり, 雇用保険あり | D12: 教育・学習支援従事者
B13: 健康保険あり, 厚生年金あり, 労災保険あり | D13: 整備・メンテナンス従事者
B14: 健康保険あり, 雇用保険あり, 労災保険あり | D14: 旅行・レジャー・イベント従事者
B15: 厚生年金あり, 雇用保険あり, 労災保険あり | D15: 法務従事者
B16: 健康保険あり, 厚生年金あり, 雇用保険あり, 労災保険あり | D16: 清掃・緑地環境整備従事者
D17: 生活関連・代行サービス従事者
D18: 福祉・葬祭・宗教従事者
D19: 科学・研究従事者
D20: 組織運営管理・事務従事者
D21: 製造・生産工程従事者
D22: 農林漁業従事者
D23: 金融従事者
D24: 飲食従事者
